BEGIN:VCALENDAR
VERSION:2.0
PRODID:-//NADI Felda Sungai Klah - ECPv6.15.13.1//NONSGML v1.0//EN
CALSCALE:GREGORIAN
METHOD:PUBLISH
X-ORIGINAL-URL:https://feldasgklah.nadi.my
X-WR-CALDESC:Events for NADI Felda Sungai Klah
REFRESH-INTERVAL;VALUE=DURATION:PT1H
X-Robots-Tag:noindex
X-PUBLISHED-TTL:PT1H
BEGIN:VTIMEZONE
TZID:UTC
BEGIN:STANDARD
TZOFFSETFROM:+0000
TZOFFSETTO:+0000
TZNAME:UTC
DTSTART:20220101T000000
END:STANDARD
END:VTIMEZONE
BEGIN:VEVENT
DTSTART;TZID=UTC:20231210T030000
DTEND;TZID=UTC:20231210T170000
DTSTAMP:20260420T040134
CREATED:20231201T193333Z
LAST-MODIFIED:20231201T193333Z
UID:1230-1702177200-1702227600@feldasgklah.nadi.my
SUMMARY:Asas Teknologi Maklumat
DESCRIPTION:
URL:https://feldasgklah.nadi.my/event/asas-teknologi-maklumat-21/
CATEGORIES:DEFAULT
END:VEVENT
END:VCALENDAR