BEGIN:VCALENDAR
VERSION:2.0
PRODID:-//NADI Felda Sungai Klah - ECPv6.15.13.1//NONSGML v1.0//EN
CALSCALE:GREGORIAN
METHOD:PUBLISH
X-WR-CALNAME:NADI Felda Sungai Klah
X-ORIGINAL-URL:https://feldasgklah.nadi.my
X-WR-CALDESC:Events for NADI Felda Sungai Klah
REFRESH-INTERVAL;VALUE=DURATION:PT1H
X-Robots-Tag:noindex
X-PUBLISHED-TTL:PT1H
BEGIN:VTIMEZONE
TZID:UTC
BEGIN:STANDARD
TZOFFSETFROM:+0000
TZOFFSETTO:+0000
TZNAME:UTC
DTSTART:20210101T000000
END:STANDARD
END:VTIMEZONE
BEGIN:VEVENT
DTSTART;TZID=UTC:20221005T110000
DTEND;TZID=UTC:20221005T120000
DTSTAMP:20260424T012618
CREATED:20221006T185147Z
LAST-MODIFIED:20221006T185147Z
UID:950-1664967600-1664971200@feldasgklah.nadi.my
SUMMARY:Keusahawanan Shopee
DESCRIPTION:
URL:https://feldasgklah.nadi.my/event/keusahawanan-shopee-3/
CATEGORIES:DEFAULT
END:VEVENT
BEGIN:VEVENT
DTSTART;TZID=UTC:20221005T110000
DTEND;TZID=UTC:20221005T120000
DTSTAMP:20260424T012618
CREATED:20221006T185147Z
LAST-MODIFIED:20221006T185147Z
UID:1175-1664967600-1664971200@feldasgklah.nadi.my
SUMMARY:Keusahawanan Shopee
DESCRIPTION:
URL:https://feldasgklah.nadi.my/event/keusahawanan-shopee-7/
CATEGORIES:DEFAULT
END:VEVENT
BEGIN:VEVENT
DTSTART;TZID=UTC:20221006T080000
DTEND;TZID=UTC:20221007T170000
DTSTAMP:20260424T012618
CREATED:20221006T185225Z
LAST-MODIFIED:20221006T185225Z
UID:951-1665043200-1665162000@feldasgklah.nadi.my
SUMMARY:Keusahawanan - Jom Masuk Mall
DESCRIPTION:
URL:https://feldasgklah.nadi.my/event/keusahawanan-jom-masuk-mall/
CATEGORIES:DEFAULT
END:VEVENT
BEGIN:VEVENT
DTSTART;TZID=UTC:20221006T080000
DTEND;TZID=UTC:20221007T170000
DTSTAMP:20260424T012618
CREATED:20221006T185225Z
LAST-MODIFIED:20221006T185225Z
UID:1176-1665043200-1665162000@feldasgklah.nadi.my
SUMMARY:Keusahawanan - Jom Masuk Mall
DESCRIPTION:
URL:https://feldasgklah.nadi.my/event/keusahawanan-jom-masuk-mall-2/
CATEGORIES:DEFAULT
END:VEVENT
BEGIN:VEVENT
DTSTART;TZID=UTC:20221007T030000
DTEND;TZID=UTC:20221007T170000
DTSTAMP:20260424T012618
CREATED:20221006T185253Z
LAST-MODIFIED:20221006T185253Z
UID:952-1665111600-1665162000@feldasgklah.nadi.my
SUMMARY:Pendaftaran Pra Perkahwinan
DESCRIPTION:
URL:https://feldasgklah.nadi.my/event/pendaftaran-pra-perkahwinan-2/
CATEGORIES:DEFAULT
END:VEVENT
BEGIN:VEVENT
DTSTART;TZID=UTC:20221007T030000
DTEND;TZID=UTC:20221007T170000
DTSTAMP:20260424T012618
CREATED:20221006T185253Z
LAST-MODIFIED:20221006T185253Z
UID:1177-1665111600-1665162000@feldasgklah.nadi.my
SUMMARY:Pendaftaran Pra Perkahwinan
DESCRIPTION:
URL:https://feldasgklah.nadi.my/event/pendaftaran-pra-perkahwinan-4/
CATEGORIES:DEFAULT
END:VEVENT
BEGIN:VEVENT
DTSTART;TZID=UTC:20221008T080000
DTEND;TZID=UTC:20221008T170000
DTSTAMP:20260424T012618
CREATED:20221006T185334Z
LAST-MODIFIED:20221006T185334Z
UID:953-1665216000-1665248400@feldasgklah.nadi.my
SUMMARY:asas teknologi maklumat
DESCRIPTION:
URL:https://feldasgklah.nadi.my/event/asas-teknologi-maklumat-10/
CATEGORIES:DEFAULT
END:VEVENT
BEGIN:VEVENT
DTSTART;TZID=UTC:20221008T080000
DTEND;TZID=UTC:20221008T170000
DTSTAMP:20260424T012618
CREATED:20221006T185334Z
LAST-MODIFIED:20221006T185334Z
UID:1178-1665216000-1665248400@feldasgklah.nadi.my
SUMMARY:asas teknologi maklumat
DESCRIPTION:
URL:https://feldasgklah.nadi.my/event/asas-teknologi-maklumat-19/
CATEGORIES:DEFAULT
END:VEVENT
BEGIN:VEVENT
DTSTART;TZID=UTC:20221013T080000
DTEND;TZID=UTC:20221013T170000
DTSTAMP:20260424T012618
CREATED:20221006T185401Z
LAST-MODIFIED:20221006T185401Z
UID:954-1665648000-1665680400@feldasgklah.nadi.my
SUMMARY:Microsoft Office
DESCRIPTION:
URL:https://feldasgklah.nadi.my/event/microsoft-office-21/
CATEGORIES:DEFAULT
END:VEVENT
BEGIN:VEVENT
DTSTART;TZID=UTC:20221013T080000
DTEND;TZID=UTC:20221013T170000
DTSTAMP:20260424T012618
CREATED:20221006T185401Z
LAST-MODIFIED:20221006T185401Z
UID:1179-1665648000-1665680400@feldasgklah.nadi.my
SUMMARY:Microsoft Office
DESCRIPTION:
URL:https://feldasgklah.nadi.my/event/microsoft-office-37/
CATEGORIES:DEFAULT
END:VEVENT
BEGIN:VEVENT
DTSTART;TZID=UTC:20221016T090000
DTEND;TZID=UTC:20221016T170000
DTSTAMP:20260424T012618
CREATED:20221006T185545Z
LAST-MODIFIED:20221006T185545Z
UID:955-1665910800-1665939600@feldasgklah.nadi.my
SUMMARY:Pengenalan Internet
DESCRIPTION:
URL:https://feldasgklah.nadi.my/event/pengenalan-internet-3/
CATEGORIES:DEFAULT
END:VEVENT
BEGIN:VEVENT
DTSTART;TZID=UTC:20221016T090000
DTEND;TZID=UTC:20221016T170000
DTSTAMP:20260424T012618
CREATED:20221006T185545Z
LAST-MODIFIED:20221006T185545Z
UID:1180-1665910800-1665939600@feldasgklah.nadi.my
SUMMARY:Pengenalan Internet
DESCRIPTION:
URL:https://feldasgklah.nadi.my/event/pengenalan-internet-6/
CATEGORIES:DEFAULT
END:VEVENT
END:VCALENDAR